<?xml version="1.0" encoding="UTF-8"?>
<TileMap version="1.0.0" tilemapservice="https://maps-public.geo.nyu.edu/geoserver/gwc/service/tms/1.0.0">
  <Title>Canada VMap1, Library 43: Dam/Weir Lines</Title>
  <Abstract/>
  <SRS>EPSG:900913</SRS>
  <BoundingBox minx="-1.25234427125E7" miny="5009377.085000001" maxx="-1.001875417E7" maxy="7514065.627500001"/>
  <Origin x="-1.25234427125E7" y="5009377.085000001"/>
  <TileFormat width="512" height="512" mime-type="image/png" extension="png"/>
  <TileSets profile="local">
    <TileSet href="https://maps-public.geo.nyu.edu/geoserver/gwc/service/tms/1.0.0/sdr%3Anyu_2451_35770@EPSG%3A900913_512x512_retina@png/0" units-per-pixel="78271.516953125" order="0"/>
    <TileSet href="https://maps-public.geo.nyu.edu/geoserver/gwc/service/tms/1.0.0/sdr%3Anyu_2451_35770@EPSG%3A900913_512x512_retina@png/1" units-per-pixel="39135.7584765625" order="1"/>
    <TileSet href="https://maps-public.geo.nyu.edu/geoserver/gwc/service/tms/1.0.0/sdr%3Anyu_2451_35770@EPSG%3A900913_512x512_retina@png/2" units-per-pixel="19567.87923828125" order="2"/>
    <TileSet href="https://maps-public.geo.nyu.edu/geoserver/gwc/service/tms/1.0.0/sdr%3Anyu_2451_35770@EPSG%3A900913_512x512_retina@png/3" units-per-pixel="9783.939619140625" order="3"/>
    <TileSet href="https://maps-public.geo.nyu.edu/geoserver/gwc/service/tms/1.0.0/sdr%3Anyu_2451_35770@EPSG%3A900913_512x512_retina@png/4" units-per-pixel="4891.9698095703125" order="4"/>
    <TileSet href="https://maps-public.geo.nyu.edu/geoserver/gwc/service/tms/1.0.0/sdr%3Anyu_2451_35770@EPSG%3A900913_512x512_retina@png/5" units-per-pixel="2445.9849047851562" order="5"/>
    <TileSet href="https://maps-public.geo.nyu.edu/geoserver/gwc/service/tms/1.0.0/sdr%3Anyu_2451_35770@EPSG%3A900913_512x512_retina@png/6" units-per-pixel="1222.9924523925781" order="6"/>
    <TileSet href="https://maps-public.geo.nyu.edu/geoserver/gwc/service/tms/1.0.0/sdr%3Anyu_2451_35770@EPSG%3A900913_512x512_retina@png/7" units-per-pixel="611.4962261962891" order="7"/>
    <TileSet href="https://maps-public.geo.nyu.edu/geoserver/gwc/service/tms/1.0.0/sdr%3Anyu_2451_35770@EPSG%3A900913_512x512_retina@png/8" units-per-pixel="305.74811309814453" order="8"/>
    <TileSet href="https://maps-public.geo.nyu.edu/geoserver/gwc/service/tms/1.0.0/sdr%3Anyu_2451_35770@EPSG%3A900913_512x512_retina@png/9" units-per-pixel="152.87405654907226" order="9"/>
    <TileSet href="https://maps-public.geo.nyu.edu/geoserver/gwc/service/tms/1.0.0/sdr%3Anyu_2451_35770@EPSG%3A900913_512x512_retina@png/10" units-per-pixel="76.43702827453613" order="10"/>
    <TileSet href="https://maps-public.geo.nyu.edu/geoserver/gwc/service/tms/1.0.0/sdr%3Anyu_2451_35770@EPSG%3A900913_512x512_retina@png/11" units-per-pixel="38.218514137268066" order="11"/>
    <TileSet href="https://maps-public.geo.nyu.edu/geoserver/gwc/service/tms/1.0.0/sdr%3Anyu_2451_35770@EPSG%3A900913_512x512_retina@png/12" units-per-pixel="19.109257068634033" order="12"/>
    <TileSet href="https://maps-public.geo.nyu.edu/geoserver/gwc/service/tms/1.0.0/sdr%3Anyu_2451_35770@EPSG%3A900913_512x512_retina@png/13" units-per-pixel="9.554628534317017" order="13"/>
    <TileSet href="https://maps-public.geo.nyu.edu/geoserver/gwc/service/tms/1.0.0/sdr%3Anyu_2451_35770@EPSG%3A900913_512x512_retina@png/14" units-per-pixel="4.777314267158508" order="14"/>
    <TileSet href="https://maps-public.geo.nyu.edu/geoserver/gwc/service/tms/1.0.0/sdr%3Anyu_2451_35770@EPSG%3A900913_512x512_retina@png/15" units-per-pixel="2.388657133579254" order="15"/>
    <TileSet href="https://maps-public.geo.nyu.edu/geoserver/gwc/service/tms/1.0.0/sdr%3Anyu_2451_35770@EPSG%3A900913_512x512_retina@png/16" units-per-pixel="1.194328566789627" order="16"/>
    <TileSet href="https://maps-public.geo.nyu.edu/geoserver/gwc/service/tms/1.0.0/sdr%3Anyu_2451_35770@EPSG%3A900913_512x512_retina@png/17" units-per-pixel="0.5971642833948135" order="17"/>
    <TileSet href="https://maps-public.geo.nyu.edu/geoserver/gwc/service/tms/1.0.0/sdr%3Anyu_2451_35770@EPSG%3A900913_512x512_retina@png/18" units-per-pixel="0.29858214169740677" order="18"/>
    <TileSet href="https://maps-public.geo.nyu.edu/geoserver/gwc/service/tms/1.0.0/sdr%3Anyu_2451_35770@EPSG%3A900913_512x512_retina@png/19" units-per-pixel="0.14929107084870338" order="19"/>
    <TileSet href="https://maps-public.geo.nyu.edu/geoserver/gwc/service/tms/1.0.0/sdr%3Anyu_2451_35770@EPSG%3A900913_512x512_retina@png/20" units-per-pixel="0.07464553542435169" order="20"/>
    <TileSet href="https://maps-public.geo.nyu.edu/geoserver/gwc/service/tms/1.0.0/sdr%3Anyu_2451_35770@EPSG%3A900913_512x512_retina@png/21" units-per-pixel="0.037322767712175846" order="21"/>
    <TileSet href="https://maps-public.geo.nyu.edu/geoserver/gwc/service/tms/1.0.0/sdr%3Anyu_2451_35770@EPSG%3A900913_512x512_retina@png/22" units-per-pixel="0.018661383856087923" order="22"/>
    <TileSet href="https://maps-public.geo.nyu.edu/geoserver/gwc/service/tms/1.0.0/sdr%3Anyu_2451_35770@EPSG%3A900913_512x512_retina@png/23" units-per-pixel="0.009330691928043961" order="23"/>
    <TileSet href="https://maps-public.geo.nyu.edu/geoserver/gwc/service/tms/1.0.0/sdr%3Anyu_2451_35770@EPSG%3A900913_512x512_retina@png/24" units-per-pixel="0.004665345964021981" order="24"/>
    <TileSet href="https://maps-public.geo.nyu.edu/geoserver/gwc/service/tms/1.0.0/sdr%3Anyu_2451_35770@EPSG%3A900913_512x512_retina@png/25" units-per-pixel="0.0023326729820109904" order="25"/>
    <TileSet href="https://maps-public.geo.nyu.edu/geoserver/gwc/service/tms/1.0.0/sdr%3Anyu_2451_35770@EPSG%3A900913_512x512_retina@png/26" units-per-pixel="0.0011663364910054952" order="26"/>
    <TileSet href="https://maps-public.geo.nyu.edu/geoserver/gwc/service/tms/1.0.0/sdr%3Anyu_2451_35770@EPSG%3A900913_512x512_retina@png/27" units-per-pixel="5.831682455027476E-4" order="27"/>
    <TileSet href="https://maps-public.geo.nyu.edu/geoserver/gwc/service/tms/1.0.0/sdr%3Anyu_2451_35770@EPSG%3A900913_512x512_retina@png/28" units-per-pixel="2.915841227513738E-4" order="28"/>
    <TileSet href="https://maps-public.geo.nyu.edu/geoserver/gwc/service/tms/1.0.0/sdr%3Anyu_2451_35770@EPSG%3A900913_512x512_retina@png/29" units-per-pixel="1.457920613756869E-4" order="29"/>
    <TileSet href="https://maps-public.geo.nyu.edu/geoserver/gwc/service/tms/1.0.0/sdr%3Anyu_2451_35770@EPSG%3A900913_512x512_retina@png/30" units-per-pixel="7.289603068784345E-5" order="30"/>
  </TileSets>
</TileMap>